BEGIN:VCALENDAR
VERSION:2.0
PRODID:-//Terzo Mondo - not just a bar ·­ not only a restaurant - ECPv6.15.20//NONSGML v1.0//EN
CALSCALE:GREGORIAN
METHOD:PUBLISH
X-WR-CALNAME:Terzo Mondo - not just a bar ·­ not only a restaurant
X-ORIGINAL-URL:https://www.terzomondo.de
X-WR-CALDESC:Veranstaltungen für Terzo Mondo - not just a bar ·­ not only a restaurant
REFRESH-INTERVAL;VALUE=DURATION:PT1H
X-Robots-Tag:noindex
X-PUBLISHED-TTL:PT1H
BEGIN:VTIMEZONE
TZID:Europe/Paris
BEGIN:DAYLIGHT
TZOFFSETFROM:+0100
TZOFFSETTO:+0200
TZNAME:CEST
DTSTART:20150329T010000
END:DAYLIGHT
BEGIN:STANDARD
TZOFFSETFROM:+0200
TZOFFSETTO:+0100
TZNAME:CET
DTSTART:20151025T010000
END:STANDARD
BEGIN:DAYLIGHT
TZOFFSETFROM:+0100
TZOFFSETTO:+0200
TZNAME:CEST
DTSTART:20160327T010000
END:DAYLIGHT
BEGIN:STANDARD
TZOFFSETFROM:+0200
TZOFFSETTO:+0100
TZNAME:CET
DTSTART:20161030T010000
END:STANDARD
BEGIN:DAYLIGHT
TZOFFSETFROM:+0100
TZOFFSETTO:+0200
TZNAME:CEST
DTSTART:20170326T010000
END:DAYLIGHT
BEGIN:STANDARD
TZOFFSETFROM:+0200
TZOFFSETTO:+0100
TZNAME:CET
DTSTART:20171029T010000
END:STANDARD
END:VTIMEZONE
BEGIN:VEVENT
DTSTART;TZID=Europe/Paris:20160531T213000
DTEND;TZID=Europe/Paris:20160531T213000
DTSTAMP:20260419T181913
CREATED:20160526T215658Z
LAST-MODIFIED:20160527T093824Z
UID:10000117-1464730200-1464730200@www.terzomondo.de
SUMMARY:Shades of Greece die vierte
DESCRIPTION:Die 3. Shades of Greece war überraschend\, intensiv\, magisch\, ausgelassen mit tollen Gästen vor und auf der Bühne .. schauen wir\, was die 4 so bringt 🙂 \nEs geht weiter mit zwei Stimmen\, zwei Generationen\, zwei musikalische Welten\, miteinander verbunden durch die Schattierungen Griechenlands. Ihre griechischen Wurzeln schicken das Programm mit ihren Interpretationen von Klassikern des englischsprachigen Rock bis hin zu griechischen Songs der letzten drei Jahrzehnte auf eine musikalische Odyssee \n\nDamian Stringares – Gesang\, Piano\nMarc Alexey – Gesang\, Gitarren\n\nIhr könnt uns hier auf Facebook gerne Songs vorschlagen\, die wir spielen sollen. Wir suchen uns zwei davon aus und wenn Dein Song gespielt wird und Du da bist\, gibt es einen Drink spendiert 😉 \n!! Achtung !! \ndiese Veranstaltung findet nicht im Terzo Mondo statt
URL:https://www.terzomondo.de/event/shades-of-greece-die-vierte/
LOCATION:Gainsbourg à Gainsbarre Le Club\, Jeanne-Mammen-Bogen 576/577 \, Berlin \, 10623 \, Deutschland
CATEGORIES:Klangkultur
ATTACH;FMTTYPE=image/jpeg:https://www.terzomondo.de/wp-content/uploads/Shades-of-Greece_web.jpg
ORGANIZER;CN="GAINSBOURG %C3%A0 GAINSBARRE LE CLUB":MAILTO:info(at)gainsbourg(dot)de
END:VEVENT
BEGIN:VEVENT
DTSTART;TZID=Europe/Paris:20160517T213500
DTEND;TZID=Europe/Paris:20160518T010000
DTSTAMP:20260419T181913
CREATED:20160513T124713Z
LAST-MODIFIED:20160513T124904Z
UID:10000199-1463520900-1463533200@www.terzomondo.de
SUMMARY:3. Shades of Greece
DESCRIPTION:Die Tage werden heisser\, die Nächte wärmer und die Shades of Greece länger ..\nEs geht weiter mit zwei Stimmen\, zwei Generationen\, zwei musikalische Welten\, miteinander verbunden durch die Schattierungen Griechenlands. Ihre griechischen Wurzeln schicken das Programm mit ihren Interpretationen von Klassikern des englischsprachigen Rock bis hin zu griechischen Songs der letzten drei Jahrzehnte auf eine musikalische Odyssee \n\nDamian Stringares – Gesang\, Piano\nMarc Alexey – Gesang\, Gitarren\n\nIhr könnt uns hier gerne Songs vorschlagen\, die wir spielen sollen. Wir suchen uns zwei davon aus und wenn Dein Song gespielt wird und Du da bist\, gibt es einen Drink spendiert 😉 \n!! Achtung !! \ndiese Veranstaltung findet nicht im Terzo Mondo statt
URL:https://www.terzomondo.de/event/3-shades-of-greece/
LOCATION:Gainsbourg à Gainsbarre Le Club\, Jeanne-Mammen-Bogen 576/577 \, Berlin \, 10623 \, Deutschland
CATEGORIES:Klangkultur
ATTACH;FMTTYPE=image/jpeg:https://www.terzomondo.de/wp-content/uploads/Shades-of-Greece_web.jpg
ORGANIZER;CN="GAINSBOURG %C3%A0 GAINSBARRE LE CLUB":MAILTO:info(at)gainsbourg(dot)de
END:VEVENT
BEGIN:VEVENT
DTSTART;TZID=Europe/Paris:20160503T210000
DTEND;TZID=Europe/Paris:20160504T003000
DTSTAMP:20260419T181913
CREATED:20160427T100057Z
LAST-MODIFIED:20160427T100057Z
UID:10000195-1462309200-1462321800@www.terzomondo.de
SUMMARY:2. Shades of Greece
DESCRIPTION:Shades of Greece\, die zweite\nnach erfolgreicher Erstaufführung geht es weiter mit\n\nDamian Stringares – Gesang\, Piano\nMarc Alexey – Gesang\, Gitarren\n\nzwei Stimmen\, zwei Generationen\, zwei musikalische Welten\, miteinander verbunden durch die Schattierungen Griechenlands. Ihre griechischen Wurzeln schicken das Programm mit ihren Interpretationen von Klassikern des englischsprachigen Rock bis hin zu griechischen Songs der letzten drei Jahrzehnte auf eine musikalische Odyssee .. \nIhre Interpretationen geben den Songs einen eigenen Charakter\, in dem auch die unterschiedlichsten Schattierungen eines Lebens zwischen zwei Kulturen zum Vorschein kommen. \n!! Achtung !! \ndiese Veranstaltung findet nicht im Terzo Mondo statt
URL:https://www.terzomondo.de/event/shades-of-greece_2/
LOCATION:Gainsbourg à Gainsbarre Le Club\, Jeanne-Mammen-Bogen 576/577 \, Berlin \, 10623 \, Deutschland
CATEGORIES:Klangkultur
ATTACH;FMTTYPE=image/jpeg:https://www.terzomondo.de/wp-content/uploads/Shades-of-Greece_web.jpg
ORGANIZER;CN="GAINSBOURG %C3%A0 GAINSBARRE LE CLUB":MAILTO:info(at)gainsbourg(dot)de
END:VEVENT
BEGIN:VEVENT
DTSTART;TZID=Europe/Paris:20160419T210000
DTEND;TZID=Europe/Paris:20160419T235500
DTSTAMP:20260419T181913
CREATED:20160415T072244Z
LAST-MODIFIED:20160415T080506Z
UID:10000193-1461099600-1461110100@www.terzomondo.de
SUMMARY:Shades of Greece
DESCRIPTION:Ein neues Duo und seine Weltpremiere\nzwei Stimmen\, zwei Generationen\, zwei musikalische Welten\, miteinander verbunden durch die Schattierungen Griechenlands. Ihre griechischen Wurzeln schicken das Programm mit ihren Interpretationen von Klassikern des englischsprachigen Rock bis hin zu griechischen Songs der letzten drei Jahrzehnte auf eine musikalische Odyssee .. \n\nDamian Stringares – Gesang\, Piano\nMarc Alexey – Gesang\, Gitarren\n\nIhre Interpretationen geben den Songs einen eigenen Charakter\, in dem auch die unterschiedlichsten Schattierungen eines Lebens zwischen zwei Kulturen zum Vorschein kommen. \n!! Achtung !! \ndiese Veranstaltung findet nicht im Terzo Mondo statt
URL:https://www.terzomondo.de/event/shades-of-greece/
LOCATION:Gainsbourg à Gainsbarre Le Club\, Jeanne-Mammen-Bogen 576/577 \, Berlin \, 10623 \, Deutschland
CATEGORIES:Klangkultur
ATTACH;FMTTYPE=image/jpeg:https://www.terzomondo.de/wp-content/uploads/Shades-of-Greece_web.jpg
ORGANIZER;CN="GAINSBOURG %C3%A0 GAINSBARRE LE CLUB":MAILTO:info(at)gainsbourg(dot)de
END:VEVENT
END:VCALENDAR