BEGIN:VCALENDAR
VERSION:2.0
PRODID:-//Terzo Mondo - not just a bar ·­ not only a restaurant - ECPv6.15.20//NONSGML v1.0//EN
CALSCALE:GREGORIAN
METHOD:PUBLISH
X-ORIGINAL-URL:https://www.terzomondo.de
X-WR-CALDESC:Veranstaltungen für Terzo Mondo - not just a bar ·­ not only a restaurant
REFRESH-INTERVAL;VALUE=DURATION:PT1H
X-Robots-Tag:noindex
X-PUBLISHED-TTL:PT1H
BEGIN:VTIMEZONE
TZID:Europe/Paris
BEGIN:DAYLIGHT
TZOFFSETFROM:+0100
TZOFFSETTO:+0200
TZNAME:CEST
DTSTART:20130331T010000
END:DAYLIGHT
BEGIN:STANDARD
TZOFFSETFROM:+0200
TZOFFSETTO:+0100
TZNAME:CET
DTSTART:20131027T010000
END:STANDARD
BEGIN:DAYLIGHT
TZOFFSETFROM:+0100
TZOFFSETTO:+0200
TZNAME:CEST
DTSTART:20140330T010000
END:DAYLIGHT
BEGIN:STANDARD
TZOFFSETFROM:+0200
TZOFFSETTO:+0100
TZNAME:CET
DTSTART:20141026T010000
END:STANDARD
BEGIN:DAYLIGHT
TZOFFSETFROM:+0100
TZOFFSETTO:+0200
TZNAME:CEST
DTSTART:20150329T010000
END:DAYLIGHT
BEGIN:STANDARD
TZOFFSETFROM:+0200
TZOFFSETTO:+0100
TZNAME:CET
DTSTART:20151025T010000
END:STANDARD
END:VTIMEZONE
BEGIN:VEVENT
DTSTART;TZID=Europe/Paris:20140814T200000
DTEND;TZID=Europe/Paris:20140814T200000
DTSTAMP:20260419T161353
CREATED:20140802T092106Z
LAST-MODIFIED:20140802T092607Z
UID:10000088-1408046400-1408046400@www.terzomondo.de
SUMMARY:Neue Konzertreihe: Berlin Groove Connection
DESCRIPTION:Wir freuen uns\, eine neue Konzertreihe auf unserer Bühne in der Galerie Terzo begrüssen zu dürfen\, die \nBerlin Groove Connection – Soul Jazz\, Funk Jazz\nRudy Redl (p)\nKaty Kay (voc)\nMike Russell (g)\nMichael Gechter (g)\nSir Charles Williamson (b)\nMichael Kersting (dr) \nBerlin Groove Connection: Das ist ein Pool international bekannter Musiker\, die in wechselnder Besetzung jedem Konzert eine spannende Facettierung des Repertoires verleihen. Die Mischung der Einschläge von Gospel\, Blues\, Soul\, Funk\, und Jazz finden in den raffinierten Arrangements von Pianist Rudy Redl zu hoher atmosphärischer Dichte. Die Performance der Sängerin Katy Kay lässt auch beim Wildern im Pop-Repertoire alle Emotionen in ihrer Substanz erlebbar werden. Musik\, die mehr als nur unterhält – spirituelle Substanz in glücklicher Verbindung mit Sexappeal!
URL:https://www.terzomondo.de/event/neue-konzertreihe-berlin-groove-connection/
LOCATION:Galerie Terzo\, Grolmanstraße 28\, Berlin\, 10623\, Deutschland
CATEGORIES:Berlin Groove Connection
ATTACH;FMTTYPE=image/jpeg:https://www.terzomondo.de/wp-content/uploads/BGC-terzomondo.jpg
END:VEVENT
END:VCALENDAR