BEGIN:VCALENDAR
VERSION:2.0
PRODID:-//Terzo Mondo - not just a bar ·­ not only a restaurant - ECPv6.15.20//NONSGML v1.0//EN
CALSCALE:GREGORIAN
METHOD:PUBLISH
X-WR-CALNAME:Terzo Mondo - not just a bar ·­ not only a restaurant
X-ORIGINAL-URL:https://www.terzomondo.de
X-WR-CALDESC:Veranstaltungen für Terzo Mondo - not just a bar ·­ not only a restaurant
REFRESH-INTERVAL;VALUE=DURATION:PT1H
X-Robots-Tag:noindex
X-PUBLISHED-TTL:PT1H
BEGIN:VTIMEZONE
TZID:Europe/Paris
BEGIN:DAYLIGHT
TZOFFSETFROM:+0100
TZOFFSETTO:+0200
TZNAME:CEST
DTSTART:20130331T010000
END:DAYLIGHT
BEGIN:STANDARD
TZOFFSETFROM:+0200
TZOFFSETTO:+0100
TZNAME:CET
DTSTART:20131027T010000
END:STANDARD
BEGIN:DAYLIGHT
TZOFFSETFROM:+0100
TZOFFSETTO:+0200
TZNAME:CEST
DTSTART:20140330T010000
END:DAYLIGHT
BEGIN:STANDARD
TZOFFSETFROM:+0200
TZOFFSETTO:+0100
TZNAME:CET
DTSTART:20141026T010000
END:STANDARD
BEGIN:DAYLIGHT
TZOFFSETFROM:+0100
TZOFFSETTO:+0200
TZNAME:CEST
DTSTART:20150329T010000
END:DAYLIGHT
BEGIN:STANDARD
TZOFFSETFROM:+0200
TZOFFSETTO:+0100
TZNAME:CET
DTSTART:20151025T010000
END:STANDARD
BEGIN:DAYLIGHT
TZOFFSETFROM:+0100
TZOFFSETTO:+0200
TZNAME:CEST
DTSTART:20160327T010000
END:DAYLIGHT
BEGIN:STANDARD
TZOFFSETFROM:+0200
TZOFFSETTO:+0100
TZNAME:CET
DTSTART:20161030T010000
END:STANDARD
END:VTIMEZONE
BEGIN:VEVENT
DTSTART;TZID=Europe/Paris:20151217T200000
DTEND;TZID=Europe/Paris:20151217T200000
DTSTAMP:20260419T142928
CREATED:20151214T174523Z
LAST-MODIFIED:20151217T094311Z
UID:10000165-1450382400-1450382400@www.terzomondo.de
SUMMARY:Berlin Groove Connection Special mit Mack Goldsbury
DESCRIPTION:Leider musste das Konzert wegen Krankheit abgesagt werden!\nMit dem Programm „Common Music“ spielt Mack Goldsbury Original- Kompositionen\, die zusammen mit Rudy Redl in 20 Jahren musikalischer Zusammenarbeit entstanden sind.\n\nMack Goldsbury wuchs in einer musikalischen Familie auf; ab dem dritten Lebensjahr lernte er Mandoline und spielte bereits mit sechs Jahren in der Country & Western-Band seines Vaters\, der ihm auch den Blues beibrachte. Im Alter von sechzehn Jahren schlug er die Laufbahn eines Musikers ein.\nNachdem er in Kalifornien mit Musikern wie Red Garland spielte\, zog er in den 1970er Jahren nach New York City. Er ging mit Stevie Wonder\, den Temptations\,Cher\, Frank Sinatra sowie den Supremes auf Tournee und musizierte u. a. mit Tony Bennett\, Paul Motian\, Stanley Turrentine\, Bob Moses\, Jack McDuff\, Billy Eckstine oder Pharoah Sanders. Er leitete eigene Bands und arbeitete unter anderem im New York Composers‘ Orchestra von Wayne Horvitz und Bobby Previte sowie mit Herb Robertson und Ed Schuller\, mit dem er ein Duo bildete. 1992 zog er nach Berlin\, wo er Combos mit Ernst Bier\, mit Andreas Böttcher und mit Michael Clifton gründete. Weiterhin spielte er mit Till Brönner\, Walter Norris\, Jocelyn B. Smith\, Baby Sommer and the Swiss Horns oder dem Deutschen Symphonie-Orchester Berlin. Goldsbury ist auf mehr als 60 CDs dokumentiert und ist auf zahlreichen internationalen Jazz- Festivals aufgetreten \nMack Goldsbury (ts\, ss\, fl)\nRudy Redl (p)\nKaty Kay (voc)\nMike Russell (g)\nMichael Gechter (g)\nSir Charles (b)\nJoe Dicarlo (dr) \nInfos:\nhttp://www.berlin-groove-connection.de\nhttp://www.common-music.net
URL:https://www.terzomondo.de/event/berlin-groove-connection-special-mit-mack-goldsbury/
CATEGORIES:Berlin Groove Connection,Klangkultur
ATTACH;FMTTYPE=image/jpeg:https://www.terzomondo.de/wp-content/uploads/BGC_mack_terzomondo.jpg
END:VEVENT
BEGIN:VEVENT
DTSTART;TZID=Europe/Paris:20151214T200000
DTEND;TZID=Europe/Paris:20151214T200000
DTSTAMP:20260419T142928
CREATED:20151108T143125Z
LAST-MODIFIED:20240425T165607Z
UID:10000129-1450123200-1450123200@www.terzomondo.de
SUMMARY:Berlin Groove Connection
DESCRIPTION:Soul Jazz\, Funk Jazz auf höchstem Niveau\nSechs Musiker von Weltrang mit Wurzeln in der Black Music präsentieren ein traditionelles Repertoire aus Jazz\, Funk und Soul in individuellen\, zeitgemäßen Arrangements. \nRudy Redl (p)\nKaty Kay (voc)\nMike Russell (g)\nMichael Gechter (g)\nSir Charles Williamson (b)\nMichael Kersting (dr) \nBerlin Groove Connection: Das ist ein Pool international bekannter Musiker\, die in wechselnder Besetzung jedem Konzert eine spannende Facettierung des Repertoires verleihen. Die Mischung der Einschläge von Gospel\, Blues\, Soul\, Funk\, und Jazz finden in den raffinierten Arrangements von Pianist Rudy Redl zu hoher atmosphärischer Dichte. Die Performance der Sängerin Katy Kay lässt auch beim Wildern im Pop-Repertoire alle Emotionen in ihrer Substanz erlebbar werden. Musik\, die mehr als nur unterhält – spirituelle Substanz in glücklicher Verbindung mit Sexappeal!
URL:https://www.terzomondo.de/event/berlin-groove-connection-9/
LOCATION:Galerie Terzo\, Grolmanstraße 28\, Berlin\, 10623\, Deutschland
CATEGORIES:Berlin Groove Connection,Klangkultur
ATTACH;FMTTYPE=image/jpeg:https://www.terzomondo.de/wp-content/uploads/BGC-terzomondo.jpg
END:VEVENT
BEGIN:VEVENT
DTSTART;TZID=Europe/Paris:20151108T190000
DTEND;TZID=Europe/Paris:20151108T190000
DTSTAMP:20260419T142928
CREATED:20151019T132938Z
LAST-MODIFIED:20240425T165606Z
UID:10000128-1447009200-1447009200@www.terzomondo.de
SUMMARY:Berlin Groove Connection
DESCRIPTION:Soul Jazz\, Funk Jazz auf höchstem Niveau\nSechs Musiker von Weltrang mit Wurzeln in der Black Music präsentieren ein traditionelles Repertoire aus Jazz\, Funk und Soul in individuellen\, zeitgemäßen Arrangements. \nRudy Redl (p)\nKaty Kay (voc)\nMike Russell (g)\nMichael Gechter (g)\nSir Charles Williamson (b)\nMichael Kersting (dr) \nBerlin Groove Connection: Das ist ein Pool international bekannter Musiker\, die in wechselnder Besetzung jedem Konzert eine spannende Facettierung des Repertoires verleihen. Die Mischung der Einschläge von Gospel\, Blues\, Soul\, Funk\, und Jazz finden in den raffinierten Arrangements von Pianist Rudy Redl zu hoher atmosphärischer Dichte. Die Performance der Sängerin Katy Kay lässt auch beim Wildern im Pop-Repertoire alle Emotionen in ihrer Substanz erlebbar werden. Musik\, die mehr als nur unterhält – spirituelle Substanz in glücklicher Verbindung mit Sexappeal!
URL:https://www.terzomondo.de/event/berlin-groove-connection-8/
LOCATION:Galerie Terzo\, Grolmanstraße 28\, Berlin\, 10623\, Deutschland
CATEGORIES:Berlin Groove Connection,Klangkultur
ATTACH;FMTTYPE=image/jpeg:https://www.terzomondo.de/wp-content/uploads/BGC-terzomondo.jpg
END:VEVENT
BEGIN:VEVENT
DTSTART;TZID=Europe/Paris:20151019T200000
DTEND;TZID=Europe/Paris:20151019T200000
DTSTAMP:20260419T142928
CREATED:20150921T132754Z
LAST-MODIFIED:20240425T165606Z
UID:10000127-1445284800-1445284800@www.terzomondo.de
SUMMARY:Berlin Groove Connection
DESCRIPTION:Soul Jazz\, Funk Jazz auf höchstem Niveau\nSechs Musiker von Weltrang mit Wurzeln in der Black Music präsentieren ein traditionelles Repertoire aus Jazz\, Funk und Soul in individuellen\, zeitgemäßen Arrangements. \nRudy Redl (p)\nKaty Kay (voc)\nMike Russell (g)\nMichael Gechter (g)\nSir Charles Williamson (b)\nMichael Kersting (dr) \nBerlin Groove Connection: Das ist ein Pool international bekannter Musiker\, die in wechselnder Besetzung jedem Konzert eine spannende Facettierung des Repertoires verleihen. Die Mischung der Einschläge von Gospel\, Blues\, Soul\, Funk\, und Jazz finden in den raffinierten Arrangements von Pianist Rudy Redl zu hoher atmosphärischer Dichte. Die Performance der Sängerin Katy Kay lässt auch beim Wildern im Pop-Repertoire alle Emotionen in ihrer Substanz erlebbar werden. Musik\, die mehr als nur unterhält – spirituelle Substanz in glücklicher Verbindung mit Sexappeal!
URL:https://www.terzomondo.de/event/berlin-groove-connection-7/
LOCATION:Galerie Terzo\, Grolmanstraße 28\, Berlin\, 10623\, Deutschland
CATEGORIES:Berlin Groove Connection,Klangkultur
ATTACH;FMTTYPE=image/jpeg:https://www.terzomondo.de/wp-content/uploads/BGC-terzomondo.jpg
END:VEVENT
BEGIN:VEVENT
DTSTART;TZID=Europe/Paris:20150921T200000
DTEND;TZID=Europe/Paris:20150921T200000
DTSTAMP:20260419T142928
CREATED:20150819T132706Z
LAST-MODIFIED:20240425T165605Z
UID:10000126-1442865600-1442865600@www.terzomondo.de
SUMMARY:Berlin Groove Connection
DESCRIPTION:Soul Jazz\, Funk Jazz auf höchstem Niveau\nSechs Musiker von Weltrang mit Wurzeln in der Black Music präsentieren ein traditionelles Repertoire aus Jazz\, Funk und Soul in individuellen\, zeitgemäßen Arrangements. \nRudy Redl (p)\nKaty Kay (voc)\nMike Russell (g)\nMichael Gechter (g)\nSir Charles Williamson (b)\nMichael Kersting (dr) \nBerlin Groove Connection: Das ist ein Pool international bekannter Musiker\, die in wechselnder Besetzung jedem Konzert eine spannende Facettierung des Repertoires verleihen. Die Mischung der Einschläge von Gospel\, Blues\, Soul\, Funk\, und Jazz finden in den raffinierten Arrangements von Pianist Rudy Redl zu hoher atmosphärischer Dichte. Die Performance der Sängerin Katy Kay lässt auch beim Wildern im Pop-Repertoire alle Emotionen in ihrer Substanz erlebbar werden. Musik\, die mehr als nur unterhält – spirituelle Substanz in glücklicher Verbindung mit Sexappeal!
URL:https://www.terzomondo.de/event/berlin-groove-connection-10/
LOCATION:Galerie Terzo\, Grolmanstraße 28\, Berlin\, 10623\, Deutschland
CATEGORIES:Berlin Groove Connection,Klangkultur
ATTACH;FMTTYPE=image/jpeg:https://www.terzomondo.de/wp-content/uploads/BGC-terzomondo.jpg
END:VEVENT
BEGIN:VEVENT
DTSTART;TZID=Europe/Paris:20150611T200000
DTEND;TZID=Europe/Paris:20150611T200000
DTSTAMP:20260419T142928
CREATED:20150507T132555Z
LAST-MODIFIED:20240425T165605Z
UID:10000125-1434052800-1434052800@www.terzomondo.de
SUMMARY:Berlin Groove Connection
DESCRIPTION:Soul Jazz\, Funk Jazz auf höchstem Niveau\nSechs Musiker von Weltrang mit Wurzeln in der Black Music präsentieren ein traditionelles Repertoire aus Jazz\, Funk und Soul in individuellen\, zeitgemäßen Arrangements. \nRudy Redl (p)\nKaty Kay (voc)\nMike Russell (g)\nMichael Gechter (g)\nSir Charles Williamson (b)\nMichael Kersting (dr) \nBerlin Groove Connection: Das ist ein Pool international bekannter Musiker\, die in wechselnder Besetzung jedem Konzert eine spannende Facettierung des Repertoires verleihen. Die Mischung der Einschläge von Gospel\, Blues\, Soul\, Funk\, und Jazz finden in den raffinierten Arrangements von Pianist Rudy Redl zu hoher atmosphärischer Dichte. Die Performance der Sängerin Katy Kay lässt auch beim Wildern im Pop-Repertoire alle Emotionen in ihrer Substanz erlebbar werden. Musik\, die mehr als nur unterhält – spirituelle Substanz in glücklicher Verbindung mit Sexappeal!
URL:https://www.terzomondo.de/event/berlin-groove-connection-6/
LOCATION:Galerie Terzo\, Grolmanstraße 28\, Berlin\, 10623\, Deutschland
CATEGORIES:Berlin Groove Connection,Klangkultur
ATTACH;FMTTYPE=image/jpeg:https://www.terzomondo.de/wp-content/uploads/BGC-terzomondo.jpg
END:VEVENT
BEGIN:VEVENT
DTSTART;TZID=Europe/Paris:20150507T200000
DTEND;TZID=Europe/Paris:20150507T200000
DTSTAMP:20260419T142928
CREATED:20150415T132346Z
LAST-MODIFIED:20240425T165604Z
UID:10000124-1431028800-1431028800@www.terzomondo.de
SUMMARY:Berlin Groove Connection
DESCRIPTION:Soul Jazz\, Funk Jazz auf höchstem Niveau\nSechs Musiker von Weltrang mit Wurzeln in der Black Music präsentieren ein traditionelles Repertoire aus Jazz\, Funk und Soul in individuellen\, zeitgemäßen Arrangements. \nRudy Redl (p)\nKaty Kay (voc)\nMike Russell (g)\nMichael Gechter (g)\nSir Charles Williamson (b)\nMichael Kersting (dr) \nBerlin Groove Connection: Das ist ein Pool international bekannter Musiker\, die in wechselnder Besetzung jedem Konzert eine spannende Facettierung des Repertoires verleihen. Die Mischung der Einschläge von Gospel\, Blues\, Soul\, Funk\, und Jazz finden in den raffinierten Arrangements von Pianist Rudy Redl zu hoher atmosphärischer Dichte. Die Performance der Sängerin Katy Kay lässt auch beim Wildern im Pop-Repertoire alle Emotionen in ihrer Substanz erlebbar werden. Musik\, die mehr als nur unterhält – spirituelle Substanz in glücklicher Verbindung mit Sexappeal!
URL:https://www.terzomondo.de/event/berlin-groove-connection-5/
LOCATION:Galerie Terzo\, Grolmanstraße 28\, Berlin\, 10623\, Deutschland
CATEGORIES:Berlin Groove Connection,Klangkultur
ATTACH;FMTTYPE=image/jpeg:https://www.terzomondo.de/wp-content/uploads/BGC-terzomondo.jpg
END:VEVENT
BEGIN:VEVENT
DTSTART;TZID=Europe/Paris:20150416T200000
DTEND;TZID=Europe/Paris:20150416T200000
DTSTAMP:20260419T142928
CREATED:20150219T142231Z
LAST-MODIFIED:20240425T165604Z
UID:10000123-1429214400-1429214400@www.terzomondo.de
SUMMARY:Berlin Groove Connection
DESCRIPTION:Soul Jazz\, Funk Jazz auf höchstem Niveau\nSechs Musiker von Weltrang mit Wurzeln in der Black Music präsentieren ein traditionelles Repertoire aus Jazz\, Funk und Soul in individuellen\, zeitgemäßen Arrangements. \nRudy Redl (p)\nKaty Kay (voc)\nMike Russell (g)\nMichael Gechter (g)\nSir Charles Williamson (b)\nMichael Kersting (dr) \nBerlin Groove Connection: Das ist ein Pool international bekannter Musiker\, die in wechselnder Besetzung jedem Konzert eine spannende Facettierung des Repertoires verleihen. Die Mischung der Einschläge von Gospel\, Blues\, Soul\, Funk\, und Jazz finden in den raffinierten Arrangements von Pianist Rudy Redl zu hoher atmosphärischer Dichte. Die Performance der Sängerin Katy Kay lässt auch beim Wildern im Pop-Repertoire alle Emotionen in ihrer Substanz erlebbar werden. Musik\, die mehr als nur unterhält – spirituelle Substanz in glücklicher Verbindung mit Sexappeal!
URL:https://www.terzomondo.de/event/berlin-groove-connection-3/
LOCATION:Galerie Terzo\, Grolmanstraße 28\, Berlin\, 10623\, Deutschland
CATEGORIES:Berlin Groove Connection,Klangkultur
ATTACH;FMTTYPE=image/jpeg:https://www.terzomondo.de/wp-content/uploads/BGC-terzomondo.jpg
END:VEVENT
BEGIN:VEVENT
DTSTART;TZID=Europe/Paris:20150308T190000
DTEND;TZID=Europe/Paris:20150308T190000
DTSTAMP:20260419T142928
CREATED:20150219T141859Z
LAST-MODIFIED:20240425T165604Z
UID:10000122-1425841200-1425841200@www.terzomondo.de
SUMMARY:Berlin Groove Connection
DESCRIPTION:Soul Jazz\, Funk Jazz auf höchstem Niveau\nSechs Musiker von Weltrang mit Wurzeln in der Black Music präsentieren ein traditionelles Repertoire aus Jazz\, Funk und Soul in individuellen\, zeitgemäßen Arrangements. \nRudy Redl (p)\nKaty Kay (voc)\nMike Russell (g)\nMichael Gechter (g)\nSir Charles Williamson (b)\nMichael Kersting (dr) \nBerlin Groove Connection: Das ist ein Pool international bekannter Musiker\, die in wechselnder Besetzung jedem Konzert eine spannende Facettierung des Repertoires verleihen. Die Mischung der Einschläge von Gospel\, Blues\, Soul\, Funk\, und Jazz finden in den raffinierten Arrangements von Pianist Rudy Redl zu hoher atmosphärischer Dichte. Die Performance der Sängerin Katy Kay lässt auch beim Wildern im Pop-Repertoire alle Emotionen in ihrer Substanz erlebbar werden. Musik\, die mehr als nur unterhält – spirituelle Substanz in glücklicher Verbindung mit Sexappeal!
URL:https://www.terzomondo.de/event/berlin-groove-connection-2/
LOCATION:Galerie Terzo\, Grolmanstraße 28\, Berlin\, 10623\, Deutschland
CATEGORIES:Berlin Groove Connection,Klangkultur
ATTACH;FMTTYPE=image/jpeg:https://www.terzomondo.de/wp-content/uploads/BGC-terzomondo.jpg
END:VEVENT
BEGIN:VEVENT
DTSTART;TZID=Europe/Paris:20150215T190000
DTEND;TZID=Europe/Paris:20150215T210000
DTSTAMP:20260419T142928
CREATED:20150214T192347Z
LAST-MODIFIED:20150215T162321Z
UID:10000118-1424026800-1424034000@www.terzomondo.de
SUMMARY:Berlin Groove Connection - afterValentinesDay
DESCRIPTION:Soul Jazz\, Funk Jazz auf höchstem Niveau\n\nSechs Musiker von Weltrang mit Wurzeln in der Black Music präsentieren ein traditionelles Repertoire aus Jazz\, Funk und Soul in individuellen\, zeitgemäßen Arrangements. \nRudy Redl (p)\nKaty Kay (voc)\nMike Russell (g)\nMichael Gechter (g)\nSir Charles Williamson (b)\nMichael Kersting (dr) \nBerlin Groove Connection: Das ist ein Pool international bekannter Musiker\, die in wechselnder Besetzung jedem Konzert eine spannende Facettierung des Repertoires verleihen. Die Mischung der Einschläge von Gospel\, Blues\, Soul\, Funk\, und Jazz finden in den raffinierten Arrangements von Pianist Rudy Redl zu hoher atmosphärischer Dichte. Die Performance der Sängerin Katy Kay lässt auch beim Wildern im Pop-Repertoire alle Emotionen in ihrer Substanz erlebbar werden. Musik\, die mehr als nur unterhält – spirituelle Substanz in glücklicher Verbindung mit Sexappeal!
URL:https://www.terzomondo.de/event/berlin-groove-connection-aftervalentinesday/
LOCATION:Galerie Terzo\, Grolmanstraße 28\, Berlin\, 10623\, Deutschland
CATEGORIES:Berlin Groove Connection
ATTACH;FMTTYPE=image/jpeg:https://www.terzomondo.de/wp-content/uploads/BGC-terzomondo.jpg
END:VEVENT
BEGIN:VEVENT
DTSTART;TZID=Europe/Paris:20150129T200000
DTEND;TZID=Europe/Paris:20150129T200000
DTSTAMP:20260419T142928
CREATED:20150126T113550Z
LAST-MODIFIED:20150126T113550Z
UID:10000112-1422561600-1422561600@www.terzomondo.de
SUMMARY:Berlin Groove Connection
DESCRIPTION:Soul Jazz\, Funk Jazz auf höchstem Niveau\n\nSechs Musiker von Weltrang mit Wurzeln in der Black Music präsentieren ein traditionelles Repertoire aus Jazz\, Funk und Soul in individuellen\, zeitgemäßen Arrangements. \nRudy Redl (p)\nKaty Kay (voc)\nMike Russell (g)\nMichael Gechter (g)\nSir Charles Williamson (b)\nMichael Kersting (dr) \nBerlin Groove Connection: Das ist ein Pool international bekannter Musiker\, die in wechselnder Besetzung jedem Konzert eine spannende Facettierung des Repertoires verleihen. Die Mischung der Einschläge von Gospel\, Blues\, Soul\, Funk\, und Jazz finden in den raffinierten Arrangements von Pianist Rudy Redl zu hoher atmosphärischer Dichte. Die Performance der Sängerin Katy Kay lässt auch beim Wildern im Pop-Repertoire alle Emotionen in ihrer Substanz erlebbar werden. Musik\, die mehr als nur unterhält – spirituelle Substanz in glücklicher Verbindung mit Sexappeal!
URL:https://www.terzomondo.de/event/berlin-groove-connection/
LOCATION:Galerie Terzo\, Grolmanstraße 28\, Berlin\, 10623\, Deutschland
CATEGORIES:Berlin Groove Connection
ATTACH;FMTTYPE=image/jpeg:https://www.terzomondo.de/wp-content/uploads/BGC-terzomondo.jpg
END:VEVENT
BEGIN:VEVENT
DTSTART;TZID=Europe/Paris:20141211T200000
DTEND;TZID=Europe/Paris:20141211T200000
DTSTAMP:20260419T142928
CREATED:20141022T082450Z
LAST-MODIFIED:20141128T145719Z
UID:10000104-1418328000-1418328000@www.terzomondo.de
SUMMARY:Berlin Groove Connection\, "fast" letztes Mal in 2014
DESCRIPTION:Soul Jazz\, Funk Jazz auf höchstem Niveau\n\nSechs Musiker von Weltrang mit Wurzeln in der Black Music präsentieren ein traditionelles Repertoire aus Jazz\, Funk und Soul in individuellen\, zeitgemäßen Arrangements. \nRudy Redl (p)\nKaty Kay (voc)\nMike Russell (g)\nMichael Gechter (g)\nSir Charles Williamson (b)\nMichael Kersting (dr) \nBerlin Groove Connection: Das ist ein Pool international bekannter Musiker\, die in wechselnder Besetzung jedem Konzert eine spannende Facettierung des Repertoires verleihen. Die Mischung der Einschläge von Gospel\, Blues\, Soul\, Funk\, und Jazz finden in den raffinierten Arrangements von Pianist Rudy Redl zu hoher atmosphärischer Dichte. Die Performance der Sängerin Katy Kay lässt auch beim Wildern im Pop-Repertoire alle Emotionen in ihrer Substanz erlebbar werden. Musik\, die mehr als nur unterhält – spirituelle Substanz in glücklicher Verbindung mit Sexappeal!
URL:https://www.terzomondo.de/event/berlin-groove-connection-letztes-mal-2014/
LOCATION:Galerie Terzo\, Grolmanstraße 28\, Berlin\, 10623\, Deutschland
CATEGORIES:Berlin Groove Connection
ATTACH;FMTTYPE=image/jpeg:https://www.terzomondo.de/wp-content/uploads/BGC-terzomondo.jpg
END:VEVENT
BEGIN:VEVENT
DTSTART;TZID=Europe/Paris:20141113T200000
DTEND;TZID=Europe/Paris:20141113T200000
DTSTAMP:20260419T142928
CREATED:20141022T081722Z
LAST-MODIFIED:20141022T081722Z
UID:10000103-1415908800-1415908800@www.terzomondo.de
SUMMARY:Berlin Groove Connection IV
DESCRIPTION:Soul Jazz\, Funk Jazz auf höchstem Niveau\nSechs Musiker von Weltrang mit Wurzeln in der Black Music präsentieren ein traditionelles Repertoire aus Jazz\, Funk und Soul in individuellen\, zeitgemäßen Arrangements. \nRudy Redl (p)\nKaty Kay (voc)\nMike Russell (g)\nMichael Gechter (g)\nSir Charles Williamson (b)\nMichael Kersting (dr) \nBerlin Groove Connection: Das ist ein Pool international bekannter Musiker\, die in wechselnder Besetzung jedem Konzert eine spannende Facettierung des Repertoires verleihen. Die Mischung der Einschläge von Gospel\, Blues\, Soul\, Funk\, und Jazz finden in den raffinierten Arrangements von Pianist Rudy Redl zu hoher atmosphärischer Dichte. Die Performance der Sängerin Katy Kay lässt auch beim Wildern im Pop-Repertoire alle Emotionen in ihrer Substanz erlebbar werden. Musik\, die mehr als nur unterhält – spirituelle Substanz in glücklicher Verbindung mit Sexappeal!
URL:https://www.terzomondo.de/event/berlin-groove-connection-4/
LOCATION:Galerie Terzo\, Grolmanstraße 28\, Berlin\, 10623\, Deutschland
CATEGORIES:Berlin Groove Connection
ATTACH;FMTTYPE=image/jpeg:https://www.terzomondo.de/wp-content/uploads/BGC-terzomondo.jpg
END:VEVENT
BEGIN:VEVENT
DTSTART;TZID=Europe/Paris:20141016T200000
DTEND;TZID=Europe/Paris:20141016T200000
DTSTAMP:20260419T142928
CREATED:20141009T083005Z
LAST-MODIFIED:20141009T124133Z
UID:10000095-1413489600-1413489600@www.terzomondo.de
SUMMARY:Berlin Groove Connection die dritte ...
DESCRIPTION:Soul Jazz\, Funk Jazz auf höchstem Niveau\nSechs Musiker von Weltrang mit Wurzeln in der Black Music präsentieren ein traditionelles Repertoire aus Jazz\, Funk und Soul in individuellen\, zeitgemäßen Arrangements. \nRudy Redl (p)\nKaty Kay (voc)\nMike Russell (g)\nMichael Gechter (g)\nSir Charles Williamson (b)\nMichael Kersting (dr) \nBerlin Groove Connection: Das ist ein Pool international bekannter Musiker\, die in wechselnder Besetzung jedem Konzert eine spannende Facettierung des Repertoires verleihen. Die Mischung der Einschläge von Gospel\, Blues\, Soul\, Funk\, und Jazz finden in den raffinierten Arrangements von Pianist Rudy Redl zu hoher atmosphärischer Dichte. Die Performance der Sängerin Katy Kay lässt auch beim Wildern im Pop-Repertoire alle Emotionen in ihrer Substanz erlebbar werden. Musik\, die mehr als nur unterhält – spirituelle Substanz in glücklicher Verbindung mit Sexappeal!
URL:https://www.terzomondo.de/event/berlin-groove-connection-die-dritte/
LOCATION:Galerie Terzo\, Grolmanstraße 28\, Berlin\, 10623\, Deutschland
CATEGORIES:Berlin Groove Connection
ATTACH;FMTTYPE=image/jpeg:https://www.terzomondo.de/wp-content/uploads/BGC-terzomondo.jpg
END:VEVENT
BEGIN:VEVENT
DTSTART;TZID=Europe/Paris:20140911T200000
DTEND;TZID=Europe/Paris:20140911T200000
DTSTAMP:20260419T142928
CREATED:20140908T085536Z
LAST-MODIFIED:20140908T132752Z
UID:10000004-1410465600-1410465600@www.terzomondo.de
SUMMARY:Berlin Groove Connection die Zweite ...
DESCRIPTION:Soul Jazz\, Funk Jazz auf höchstem Niveau\nSechs Musiker von Weltrang mit Wurzeln in der Black Music präsentieren ein traditionelles Repertoire aus Jazz\, Funk und Soul in individuellen\, zeitgemäßen Arrangements. \nRudy Redl (p)\nKaty Kay (voc)\nMike Russell (g)\nMichael Gechter (g)\nSir Charles Williamson (b)\nMichael Kersting (dr) \nBerlin Groove Connection: Das ist ein Pool international bekannter Musiker\, die in wechselnder Besetzung jedem Konzert eine spannende Facettierung des Repertoires verleihen. Die Mischung der Einschläge von Gospel\, Blues\, Soul\, Funk\, und Jazz finden in den raffinierten Arrangements von Pianist Rudy Redl zu hoher atmosphärischer Dichte. Die Performance der Sängerin Katy Kay lässt auch beim Wildern im Pop-Repertoire alle Emotionen in ihrer Substanz erlebbar werden. Musik\, die mehr als nur unterhält – spirituelle Substanz in glücklicher Verbindung mit Sexappeal!
URL:https://www.terzomondo.de/event/berlin-groove-connection-die-zweite/
LOCATION:Galerie Terzo\, Grolmanstraße 28\, Berlin\, 10623\, Deutschland
CATEGORIES:Berlin Groove Connection
ATTACH;FMTTYPE=image/jpeg:https://www.terzomondo.de/wp-content/uploads/BGC-terzomondo.jpg
END:VEVENT
BEGIN:VEVENT
DTSTART;TZID=Europe/Paris:20140814T200000
DTEND;TZID=Europe/Paris:20140814T200000
DTSTAMP:20260419T142928
CREATED:20140802T092106Z
LAST-MODIFIED:20140802T092607Z
UID:10000088-1408046400-1408046400@www.terzomondo.de
SUMMARY:Neue Konzertreihe: Berlin Groove Connection
DESCRIPTION:Wir freuen uns\, eine neue Konzertreihe auf unserer Bühne in der Galerie Terzo begrüssen zu dürfen\, die \nBerlin Groove Connection – Soul Jazz\, Funk Jazz\nRudy Redl (p)\nKaty Kay (voc)\nMike Russell (g)\nMichael Gechter (g)\nSir Charles Williamson (b)\nMichael Kersting (dr) \nBerlin Groove Connection: Das ist ein Pool international bekannter Musiker\, die in wechselnder Besetzung jedem Konzert eine spannende Facettierung des Repertoires verleihen. Die Mischung der Einschläge von Gospel\, Blues\, Soul\, Funk\, und Jazz finden in den raffinierten Arrangements von Pianist Rudy Redl zu hoher atmosphärischer Dichte. Die Performance der Sängerin Katy Kay lässt auch beim Wildern im Pop-Repertoire alle Emotionen in ihrer Substanz erlebbar werden. Musik\, die mehr als nur unterhält – spirituelle Substanz in glücklicher Verbindung mit Sexappeal!
URL:https://www.terzomondo.de/event/neue-konzertreihe-berlin-groove-connection/
LOCATION:Galerie Terzo\, Grolmanstraße 28\, Berlin\, 10623\, Deutschland
CATEGORIES:Berlin Groove Connection
ATTACH;FMTTYPE=image/jpeg:https://www.terzomondo.de/wp-content/uploads/BGC-terzomondo.jpg
END:VEVENT
END:VCALENDAR