BEGIN:VCALENDAR
VERSION:2.0
PRODID:-//Terzo Mondo - not just a bar ·­ not only a restaurant - ECPv6.15.20//NONSGML v1.0//EN
CALSCALE:GREGORIAN
METHOD:PUBLISH
X-WR-CALNAME:Terzo Mondo - not just a bar ·­ not only a restaurant
X-ORIGINAL-URL:https://www.terzomondo.de
X-WR-CALDESC:Veranstaltungen für Terzo Mondo - not just a bar ·­ not only a restaurant
REFRESH-INTERVAL;VALUE=DURATION:PT1H
X-Robots-Tag:noindex
X-PUBLISHED-TTL:PT1H
BEGIN:VTIMEZONE
TZID:Europe/Paris
BEGIN:DAYLIGHT
TZOFFSETFROM:+0100
TZOFFSETTO:+0200
TZNAME:CEST
DTSTART:20120325T010000
END:DAYLIGHT
BEGIN:STANDARD
TZOFFSETFROM:+0200
TZOFFSETTO:+0100
TZNAME:CET
DTSTART:20121028T010000
END:STANDARD
BEGIN:DAYLIGHT
TZOFFSETFROM:+0100
TZOFFSETTO:+0200
TZNAME:CEST
DTSTART:20130331T010000
END:DAYLIGHT
BEGIN:STANDARD
TZOFFSETFROM:+0200
TZOFFSETTO:+0100
TZNAME:CET
DTSTART:20131027T010000
END:STANDARD
BEGIN:DAYLIGHT
TZOFFSETFROM:+0100
TZOFFSETTO:+0200
TZNAME:CEST
DTSTART:20140330T010000
END:DAYLIGHT
BEGIN:STANDARD
TZOFFSETFROM:+0200
TZOFFSETTO:+0100
TZNAME:CET
DTSTART:20141026T010000
END:STANDARD
END:VTIMEZONE
BEGIN:VTIMEZONE
TZID:Europe/Berlin
BEGIN:DAYLIGHT
TZOFFSETFROM:+0100
TZOFFSETTO:+0200
TZNAME:CEST
DTSTART:20110327T010000
END:DAYLIGHT
BEGIN:STANDARD
TZOFFSETFROM:+0200
TZOFFSETTO:+0100
TZNAME:CET
DTSTART:20111030T010000
END:STANDARD
BEGIN:DAYLIGHT
TZOFFSETFROM:+0100
TZOFFSETTO:+0200
TZNAME:CEST
DTSTART:20120325T010000
END:DAYLIGHT
BEGIN:STANDARD
TZOFFSETFROM:+0200
TZOFFSETTO:+0100
TZNAME:CET
DTSTART:20121028T010000
END:STANDARD
BEGIN:DAYLIGHT
TZOFFSETFROM:+0100
TZOFFSETTO:+0200
TZNAME:CEST
DTSTART:20130331T010000
END:DAYLIGHT
BEGIN:STANDARD
TZOFFSETFROM:+0200
TZOFFSETTO:+0100
TZNAME:CET
DTSTART:20131027T010000
END:STANDARD
BEGIN:DAYLIGHT
TZOFFSETFROM:+0100
TZOFFSETTO:+0200
TZNAME:CEST
DTSTART:20140330T010000
END:DAYLIGHT
BEGIN:STANDARD
TZOFFSETFROM:+0200
TZOFFSETTO:+0100
TZNAME:CET
DTSTART:20141026T010000
END:STANDARD
END:VTIMEZONE
BEGIN:VEVENT
DTSTART;TZID=Europe/Paris:20130613T210000
DTEND;TZID=Europe/Paris:20130613T235500
DTSTAMP:20260426T063201
CREATED:20130612T205227Z
LAST-MODIFIED:20230327T083009Z
UID:10000011-1371157200-1371167700@www.terzomondo.de
SUMMARY:Modern Thursdays: Glue
DESCRIPTION:Modern Thursdays \nImprovisation\, Neue Musik\, Free Jazz: Etwas Neues\nimmer donnerstags ab 21 Uhr.\nDiesmal mit \nGLUE\n\nTom Arthurs trumpet\nMiles Perkin doublebass\nYorgos Dimitriadis drums\n\nmehr Info hier
URL:https://www.terzomondo.de/event/modern-thursdays-glue/
CATEGORIES:improvised / experimental,Jazz,Klangkultur,Modern Thursdays Jazz
ATTACH;FMTTYPE=image/jpeg:https://www.terzomondo.de/wp-content/uploads/ModernThursdays_Glue.jpg
END:VEVENT
BEGIN:VEVENT
DTSTART;TZID=Europe/Paris:20130609T190000
DTEND;TZID=Europe/Paris:20130609T220000
DTSTAMP:20260426T063201
CREATED:20130514T181428Z
LAST-MODIFIED:20141015T173302Z
UID:10000005-1370804400-1370815200@www.terzomondo.de
SUMMARY:Finisage: Georgantza / Papargyris
DESCRIPTION:Finisage\nKonstantinos Papargyris und Dolly Georgantza\nWir verabschieden und bedanken uns von den Künstlern und ihren Werken am 9. Juni 2013 um 19:00 \nInspiriert von André Malraux’s Aussage\, „das 21. Jahrhundert wird das Jahrhundert einer neuen Religiosität sein“ konzentriert sich K. Papargyris in seinen Bildern auf die Wiedergabe einer sich auf die humanistischen Werte beziehende Religiosität mit Hilfe von Lichtnuancen\, die intensive Gefühle der Solidarität unter den Menschen zum Ausdruck bringen. So gelingt es ihm\, Wahrheiten anzusprechen\, die jeder von uns im Inneren mit dem verbindet\, was er persönlich als göttlich empfindet. \nDie Bilder von Dolly Georgantza beziehen sich auf die griechischen traditionellen Trachten. Durch die Intensität des Pinselstrichs und der Auswahl der Farben gelingt es ihr\, die innere Dynamik der Trachten wiederzugeben\, die sie ausstrahlen\, sobald sie den Körper der Tänzer kleiden. \nKonstantinos Papargyris studierte an der Hochschule für Bildende Künste in Florenz (Italien). Als vielschichtige künstlerische Persönlichkeit hat er sich darüber hinaus mit Bühnenbild\, Theater und Poesie beschäftigt. \nDolly Georantza studierte an der Hochschule für Bildende Künste in Lecce (Italien). Sie beschäftigt sich außerdem mit Photographie und Installationen. \nBeide zusammen gründeten 2009 einen Griechisch-Französischen Künstlerverband in Fontainebleau (Frankreich). 2012 installierten sie in New York ihre erste Video-Performance. Bilder der beiden sind in individuellen und Gruppen-Ausstellungen im In- und Ausland ausgestellt worden.
URL:https://www.terzomondo.de/event/finnisage-georgantza-papargyris/
CATEGORIES:Ausstellung,Finissage
ATTACH;FMTTYPE=image/jpeg:https://www.terzomondo.de/wp-content/uploads/papargyrisgeorgantza.jpg
END:VEVENT
BEGIN:VEVENT
DTSTART;TZID=Europe/Paris:20130606T210000
DTEND;TZID=Europe/Paris:20130606T235500
DTSTAMP:20260426T063201
CREATED:20130605T132239Z
LAST-MODIFIED:20240421T160645Z
UID:10000010-1370552400-1370562900@www.terzomondo.de
SUMMARY:Modern Thursdays: Kellers | Floridis | Ando | Wegener | Tolksdorf
DESCRIPTION:Modern Thursdays \nImprovisation\, Neue Musik\, Free Jazz: Etwas Neues\nimmer donnerstags ab 21 Uhr.\nDiesmal mit \nWilli Kellers – dr \nFloros Floridis – reeds \nAkira Ando – db \nSusanne Wegener – vc\, p \nJens Tolksdorf – sax
URL:https://www.terzomondo.de/event/modern-thursdays-kellers-floridis-ando-wegener-tolksdorf/
CATEGORIES:improvised / experimental,Jazz,Klangkultur,Modern Thursdays Jazz
ATTACH;FMTTYPE=image/jpeg:https://www.terzomondo.de/wp-content/uploads/MT_6_6_2013.jpg
END:VEVENT
BEGIN:VEVENT
DTSTART;TZID=Europe/Paris:20130530T210000
DTEND;TZID=Europe/Paris:20130530T233000
DTSTAMP:20260426T063201
CREATED:20130526T202201Z
LAST-MODIFIED:20230327T083010Z
UID:10000046-1369947600-1369956600@www.terzomondo.de
SUMMARY:Modern Thursdays: Fabric Trio
DESCRIPTION:Wir freuen uns auf das Record Release Concert des FABRIC TRIO zu ihrer neue CD “MURMURS” \nFABRIC   TRIO : \nFRANK PAUL SCHUBERT\, soprano and alto saxophone \nMIKE MAJKOWSKI\, doublebass \nYORGOS DIMITRIADIS\, drums
URL:https://www.terzomondo.de/event/modern-thursdays-fabric-trio/
CATEGORIES:improvised / experimental,Jazz,Klangkultur,Modern Thursdays Jazz
ATTACH;FMTTYPE=image/jpeg:https://www.terzomondo.de/wp-content/uploads/Fabric-Trio-terzo.jpg
END:VEVENT
BEGIN:VEVENT
DTSTART;TZID=Europe/Paris:20130523T210000
DTEND;TZID=Europe/Paris:20130523T235500
DTSTAMP:20260426T063201
CREATED:20130521T200147Z
LAST-MODIFIED:20230327T083011Z
UID:10000006-1369342800-1369353300@www.terzomondo.de
SUMMARY:Modern Thursdays: Floridis | Ando | Kaczynski
DESCRIPTION:Modern Thursdays\nImprovisation\, Neue Musik\, Free Jazz: Etwas Neues\nimmer donnerstags ab 21 Uhr.\nDiesmal mit \nFloros Floridis – reeds  | Akira Ando – doublebass  | Ray Kaczynski – drums
URL:https://www.terzomondo.de/event/modern-thursdays-floridis-ando-kaczynski/
CATEGORIES:improvised / experimental,Jazz,Klangkultur,Modern Thursdays Jazz
ATTACH;FMTTYPE=image/jpeg:https://www.terzomondo.de/wp-content/uploads/MT_2.5.jpg
END:VEVENT
BEGIN:VEVENT
DTSTART;TZID=Europe/Paris:20130516T210000
DTEND;TZID=Europe/Paris:20130516T230000
DTSTAMP:20260426T063201
CREATED:20130514T175056Z
LAST-MODIFIED:20230327T083045Z
UID:10000045-1368738000-1368745200@www.terzomondo.de
SUMMARY:Modern Thursdays: Dahlgreen | Floridis | Rupp
DESCRIPTION:Modern Thursdays\nImprovisation\, Neue Musik\, Free Jazz: Etwas Neues\nimmer donnerstags ab 21 Uhr.\nDiesmal mit\nDahlgreen -Viola da Gamba | Floridis – Reeds | Rupp – Gitarre
URL:https://www.terzomondo.de/event/modern-thursdays-improjazz/
CATEGORIES:improvised / experimental,Jazz,Klangkultur,Modern Thursdays Jazz
ATTACH;FMTTYPE=image/jpeg:https://www.terzomondo.de/wp-content/uploads/ModernThursdays1_5.jpg
END:VEVENT
BEGIN:VEVENT
DTSTART;TZID=Europe/Paris:20130504T190000
DTEND;TZID=Europe/Paris:20130504T235500
DTSTAMP:20260426T063201
CREATED:20130426T172538Z
LAST-MODIFIED:20140219T152725Z
UID:10000003-1367694000-1367711700@www.terzomondo.de
SUMMARY:Vernissage:  Georgantza / Papargyris
DESCRIPTION:AUSSTELLUNG\nKonstantinos Papargyris und Dolly Georgantza\nAusstellungseröffnung am 3. Mai 2013 um 19:00 \nInspiriert von André Malraux’s Aussage\, „das 21. Jahrhundert wird das Jahrhundert einer neuen Religiosität sein“ konzentriert sich K. Papargyris in seinen Bildern auf die Wiedergabe einer sich auf die humanistischen Werte beziehende Religiosität mit Hilfe von Lichtnuancen\, die intensive Gefühle der Solidarität unter den Menschen zum Ausdruck bringen. So gelingt es ihm\, Wahrheiten anzusprechen\, die jeder von uns im Inneren mit dem verbindet\, was er persönlich als göttlich empfindet. \nDie Bilder von Dolly Georgantza beziehen sich auf die griechischen traditionellen Trachten. Durch die Intensität des Pinselstrichs und der Auswahl der Farben gelingt es ihr\, die innere Dynamik der Trachten wiederzugeben\, die sie ausstrahlen\, sobald sie den Körper der Tänzer kleiden. \nKonstantinos Papargyris studierte an der Hochschule für Bildende Künste in Florenz (Italien). Als vielschichtige künstlerische Persönlichkeit hat er sich darüber hinaus mit Bühnenbild\, Theater und Poesie beschäftigt. \nDolly Georantza studierte an der Hochschule für Bildende Künste in Lecce (Italien). Sie beschäftigt sich außerdem mit Photographie und Installationen. \nBeide zusammen gründeten 2009 einen Griechisch-Französischen Künstlerverband in Fontainebleau (Frankreich). 2012 installierten sie in New York ihre erste Video-Performance. Bilder der beiden sind in individuellen und Gruppen-Ausstellungen im In- und Ausland ausgestellt worden.
URL:https://www.terzomondo.de/event/vernissage-mit-georgantza-papargyris/
LOCATION:Galerie Terzo\, Grolmanstraße 28\, Berlin\, 10623\, Deutschland
CATEGORIES:Ausstellung
ATTACH;FMTTYPE=image/jpeg:https://www.terzomondo.de/wp-content/uploads/papargyrisgeorgantza.jpg
END:VEVENT
BEGIN:VEVENT
DTSTART;TZID=Europe/Paris:20130428T190000
DTEND;TZID=Europe/Paris:20130428T210000
DTSTAMP:20260426T063201
CREATED:20130426T170623Z
LAST-MODIFIED:20130525T102317Z
UID:10000002-1367175600-1367182800@www.terzomondo.de
SUMMARY:Uwe Hildebrand liest aus seinem Roman MIDI
DESCRIPTION:LESUNG\nAm Sonntag\, 28.April 2013 um 19.00 Uhr in der Galerie Terzo – Eintritt frei \nUwe Hildebrand studierte in Berlin Architektur. Nach dem Studium Arbeit als Requisiteur und später als Inspizient unter Peter Stein an der Schaubühne am Halleschen Tor. Im Anschluss: Betreiben verschiedener Läden für Accessoires\, Modeschmuck\, Mode\, Antiquitäten und Restaurierungen. In diese Zeit fällt der Beginn des Schreibens von Gedichten\, ersten Kurzgeschichten und Umsetzung eines Buchprojektes. Im Anschluss Malerei und Arbeit als Korrespondent mit einer französischen Zeitschrift für Design und Kunsthandwerk. Diverse Ausstellungen in der Schweiz und in Frankreich. Nach einer Pause erneut Malerei\, Skulpturen und die Entwicklung einer Kollektion von Entwürfen für Ansichtskarten. \nDiese Arbeiten wurden dann auf Grund der Vorbereitungen und Fertigstellung meines aktuellen\, noch unveröffentlichten Roman mit dem Arbeitstitel MIDI zurückgestellt.
URL:https://www.terzomondo.de/event/uwe-hildebrand-liest-aus-seinem-roman-midi/
LOCATION:Grolmanstraße 28\, Berlin\, 10623\, Germany
CATEGORIES:Lesung
END:VEVENT
BEGIN:VEVENT
DTSTART;TZID=Europe/Berlin:20130314T210000
DTEND;TZID=Europe/Berlin:20130314T223000
DTSTAMP:20260426T063201
CREATED:20210304T235955Z
LAST-MODIFIED:20230327T083003Z
UID:10000677-1363294800-1363300200@www.terzomondo.de
SUMMARY:Bauer | Floridis - Modern Thursdays
DESCRIPTION:Improvisation\, Neue Musik\, Free Jazz: Etwas Neues\nimmer donnerstags ab 21 Uhr.\nDiesmal mit \n  \n\nConny Bauer\, posaune\nFloros Floridis\, reeds
URL:https://www.terzomondo.de/event/bauer-floridis-modern-thursdays/
CATEGORIES:improvised / experimental,Jazz,Klangkultur,Modern Thursdays Jazz
ATTACH;FMTTYPE=image/jpeg:https://www.terzomondo.de/wp-content/uploads/Bauer-Floridis-ModernThursdays-terzomondo.jpg
END:VEVENT
BEGIN:VEVENT
DTSTART;TZID=Europe/Berlin:20130307T210000
DTEND;TZID=Europe/Berlin:20130307T223000
DTSTAMP:20260426T063201
CREATED:20210302T220723Z
LAST-MODIFIED:20230327T083004Z
UID:10000673-1362690000-1362695400@www.terzomondo.de
SUMMARY:Thomas | Vida | Jeffery | Dimitriadis - Modern Thursdays
DESCRIPTION:Improvisation\, Neue Musik\, Free Jazz: Etwas Neues\nimmer donnerstags ab 21 Uhr. \nheute mit. \n\nClayton Thomas\, doublebass\nAndre Vida\, sax\nHilary Jeffery\, posaune\nYorgos Dimitriadis\, drums
URL:https://www.terzomondo.de/event/thomas-vida-jeffery-dimitriadis-modern-thursdays/
CATEGORIES:improvised / experimental,Jazz,Klangkultur,Modern Thursdays Jazz
ATTACH;FMTTYPE=image/jpeg:https://www.terzomondo.de/wp-content/uploads/ModernThursdays_march_1.jpg
END:VEVENT
BEGIN:VEVENT
DTSTART;TZID=Europe/Berlin:20130228T210000
DTEND;TZID=Europe/Berlin:20130228T223000
DTSTAMP:20260426T063201
CREATED:20210302T220119Z
LAST-MODIFIED:20230327T083005Z
UID:10000672-1362085200-1362090600@www.terzomondo.de
SUMMARY:GLUE - Modern Thursdays
DESCRIPTION:Improvisation\, Neue Musik\, Free Jazz: Etwas Neues\nimmer donnerstags ab 21 Uhr.\nDiesmal mit \nGLUE\n\nTom Arthurs\, Trumpet\nMiles Perkin\, Doublebass\nYorgos Dimitriadis\, Drums
URL:https://www.terzomondo.de/event/glue-modern-thursdays/
CATEGORIES:improvised / experimental,Jazz,Klangkultur,Modern Thursdays Jazz
ATTACH;FMTTYPE=image/jpeg:https://www.terzomondo.de/wp-content/uploads/ModernThursdays_3_4.jpg
END:VEVENT
BEGIN:VEVENT
DTSTART;TZID=Europe/Berlin:20130214T210000
DTEND;TZID=Europe/Berlin:20130214T223000
DTSTAMP:20260426T063201
CREATED:20210302T215843Z
LAST-MODIFIED:20230327T083005Z
UID:10000671-1360875600-1360881000@www.terzomondo.de
SUMMARY:GRIX - Modern Thursdays
DESCRIPTION:Improvisation\, Neue Musik\, Free Jazz: Etwas Neues\nimmer donnerstags ab 21 Uhr.\nDiesmal mit \nGRIX – Floros Floridis\, Reeds | Antonis Anissegos\, Piano | Yorgos Dimitriadis\, Drums
URL:https://www.terzomondo.de/event/grix-modern-thursdays/
CATEGORIES:improvised / experimental,Jazz,Klangkultur,Modern Thursdays Jazz
ATTACH;FMTTYPE=image/jpeg:https://www.terzomondo.de/wp-content/uploads/ModernThursdays_3_4.jpg
END:VEVENT
BEGIN:VEVENT
DTSTART;TZID=Europe/Berlin:20130131T210000
DTEND;TZID=Europe/Berlin:20130131T223000
DTSTAMP:20260426T063201
CREATED:20210302T214943Z
LAST-MODIFIED:20230327T083006Z
UID:10000600-1359666000-1359671400@www.terzomondo.de
SUMMARY:Dahlgren | Rupp | Floridis - Modern Thursdays
DESCRIPTION:Modern Thursdays \nImprovisation\, Neue Musik\, Free Jazz: Etwas Neues\nimmer donnerstags ab 21 Uhr.\nDiesmal mit \n\nChris Dahlgren doublebass\nOlaf Rupp guitar\nFloros Floridis reeds
URL:https://www.terzomondo.de/event/dahlgren-rupp-floridis-modern-thursdays/
CATEGORIES:improvised / experimental,Jazz,Klangkultur,Modern Thursdays Jazz
ATTACH;FMTTYPE=image/jpeg:https://www.terzomondo.de/wp-content/uploads/dahlgren-rupp-floridis-ModernThursdays-terzomondo.jpg
END:VEVENT
BEGIN:VEVENT
DTSTART;TZID=Europe/Berlin:20130124T203000
DTEND;TZID=Europe/Berlin:20130124T220000
DTSTAMP:20260426T063201
CREATED:20210302T212807Z
LAST-MODIFIED:20230327T083006Z
UID:10000670-1359059400-1359064800@www.terzomondo.de
SUMMARY:GRIX - sweet\, sour\, sharp & soft | Modern Thursdays
DESCRIPTION:GRIX\, das sind die drei griechischen Musiker Floros Floridis (Reeds | Electronics)\, Antonis Anissegos (Piano | Electronics) und Yorgos Dimitriadis (Drums | Percussion | Electronics).\nVor 15 Jahren fingen sie an in verschiedenen Gruppen miteinander zu spielen. Sie kommen alle drei aus der gleichen Stadt\, Thessaloniki\, und alle drei leben hauptsächlich in Berlin.\n2006 entschieden sie sich in einer Stadt außerhalb Griechenlands zum ersten Mal zusammenzukommen\, um dieses Trio zu formen.\nDie Arbeit von GRIX hat eine und freie Hinwendung zu den Musiktraditionen der Heimat ihrer Musiker. In ihren Kompositionen wird ihre Identität auf einer originellen improvisierten Art aufgehoben.  \n 
URL:https://www.terzomondo.de/event/grix-sweet-sour-sharp-soft-modern-thursdays/
CATEGORIES:improvised / experimental,Jazz,Klangkultur,Modern Thursdays Jazz
ATTACH;FMTTYPE=image/jpeg:https://www.terzomondo.de/wp-content/uploads/GRIX-ModernThursdays-terzomondo.jpg
END:VEVENT
BEGIN:VEVENT
DTSTART;TZID=Europe/Berlin:20121220T203000
DTEND;TZID=Europe/Berlin:20121220T220000
DTSTAMP:20260426T063201
CREATED:20210302T212225Z
LAST-MODIFIED:20210302T212412Z
UID:10000669-1356035400-1356040800@www.terzomondo.de
SUMMARY:GRIX - sweet\, sour\, sharp & soft | Modern Jazz
DESCRIPTION:GRIX\, das sind die drei griechischen Musiker Floros Floridis (Reeds | Electronics)\, Antonis Anissegos (Piano | Electronics) und Yorgos Dimitriadis (Drums | Percussion | Electronics).\nVor 15 Jahren fingen sie an in verschiedenen Gruppen miteinander zu spielen. Sie kommen alle drei aus der gleichen Stadt\, Thessaloniki\, und alle drei leben hauptsächlich in Berlin.\n2006 entschieden sie sich in einer Stadt außerhalb Griechenlands zum ersten Mal zusammenzukommen\, um dieses Trio zu formen.\nDie Arbeit von GRIX hat eine und freie Hinwendung zu den Musiktraditionen der Heimat ihrer Musiker. In ihren Kompositionen wird ihre Identität auf einer originellen improvisierten Art aufgehoben.
URL:https://www.terzomondo.de/event/grix-sweet-sour-sharp-soft-modern-jazz/
CATEGORIES:Jazz,Klangkultur,Modern Thursdays Jazz
ATTACH;FMTTYPE=image/jpeg:https://www.terzomondo.de/wp-content/uploads/GRIX-1-terzomondo.jpg
END:VEVENT
END:VCALENDAR